BEGIN:VCALENDAR
VERSION:2.0
PRODID:-//Kommunalfabrik Ratsinformationssystem https://ris-delitzsch.komfa.de/
X-WR-TIMEZONE:Europe/Berlin
X-WR-CALNAME:Sitzungskalender
X-WR-CALDESC:Ratsinformationssystem Stadt Delitzsch
BEGIN:VEVENT
UID:A7779B1DA212BBB3E314588D407CEB89
ORGANIZER;CN="":MAILTO:
LOCATION:Rathaus Delitzsch, Markt 3, Sitzungssaal
SUMMARY:Technischer Ausschuss
DESCRIPTION:Stadt Delitzsch, Technischer Ausschuss, Rathaus Delitzsch, Markt 3,, Sitzungssaal
CLASS:CONFIDENTIAL
DTSTART:20260609T153000Z
DTEND:20260609T160000Z
DTSTAMP:20260425T122945Z
END:VEVENT
END:VCALENDAR