BEGIN:VCALENDAR
VERSION:2.0
PRODID:-//Kommunalfabrik Ratsinformationssystem https://ris-delitzsch.komfa.de/
X-WR-TIMEZONE:Europe/Berlin
X-WR-CALNAME:Sitzungskalender
X-WR-CALDESC:Ratsinformationssystem Stadt Delitzsch
BEGIN:VEVENT
UID:A7779B1DA212BBB3E314598DF88B0098
ORGANIZER;CN="":MAILTO:
LOCATION:Rathaus Delitzsch, Markt 3, Sitzungssaal
SUMMARY:Verwaltungs- und Finanzausschuss
DESCRIPTION:Stadt Delitzsch, Verwaltungs- und Finanzausschuss, Rathaus Delitzsch, Markt 3,, Sitzungssaal
CLASS:CONFIDENTIAL
DTSTART:20260611T153000Z
DTEND:20260611T180000Z
DTSTAMP:20260425T122900Z
END:VEVENT
END:VCALENDAR