BEGIN:VCALENDAR
VERSION:2.0
PRODID:-//Kommunalfabrik Ratsinformationssystem https://ris-delitzsch.komfa.de/
X-WR-TIMEZONE:Europe/Berlin
X-WR-CALNAME:Sitzungskalender
X-WR-CALDESC:Ratsinformationssystem Stadt Delitzsch
BEGIN:VEVENT
UID:A7779B1DA212BBB3E3145F8DA03B2DDB
ORGANIZER;CN="":MAILTO:
LOCATION:Rathaus Delitzsch, Markt 3, Sitzungssaal
SUMMARY:Technischer Ausschuss
DESCRIPTION:Stadt Delitzsch, Technischer Ausschuss, Rathaus Delitzsch, Markt 3,, Sitzungssaal
CLASS:CONFIDENTIAL
DTSTART:20260804T153000Z
DTEND:20260804T160000Z
DTSTAMP:20260425T122141Z
END:VEVENT
END:VCALENDAR